BEGIN:VCALENDAR
VERSION:2.0
PRODID:-//os|radio 104,8 - ECPv6.15.20//NONSGML v1.0//EN
CALSCALE:GREGORIAN
METHOD:PUBLISH
X-WR-CALNAME:os|radio 104,8
X-ORIGINAL-URL:https://osradio.de
X-WR-CALDESC:Veranstaltungen für os|radio 104,8
REFRESH-INTERVAL;VALUE=DURATION:PT1H
X-Robots-Tag:noindex
X-PUBLISHED-TTL:PT1H
BEGIN:VTIMEZONE
TZID:Europe/Berlin
BEGIN:DAYLIGHT
TZOFFSETFROM:+0100
TZOFFSETTO:+0200
TZNAME:CEST
DTSTART:20250330T010000
END:DAYLIGHT
BEGIN:STANDARD
TZOFFSETFROM:+0200
TZOFFSETTO:+0100
TZNAME:CET
DTSTART:20251026T010000
END:STANDARD
BEGIN:DAYLIGHT
TZOFFSETFROM:+0100
TZOFFSETTO:+0200
TZNAME:CEST
DTSTART:20260329T010000
END:DAYLIGHT
BEGIN:STANDARD
TZOFFSETFROM:+0200
TZOFFSETTO:+0100
TZNAME:CET
DTSTART:20261025T010000
END:STANDARD
BEGIN:DAYLIGHT
TZOFFSETFROM:+0100
TZOFFSETTO:+0200
TZNAME:CEST
DTSTART:20270328T010000
END:DAYLIGHT
BEGIN:STANDARD
TZOFFSETFROM:+0200
TZOFFSETTO:+0100
TZNAME:CET
DTSTART:20271031T010000
END:STANDARD
END:VTIMEZONE
BEGIN:VEVENT
DTSTART;TZID=Europe/Berlin:20260423T060000
DTEND;TZID=Europe/Berlin:20260423T100000
DTSTAMP:20260423T114626
CREATED:20260420T044834Z
LAST-MODIFIED:20260420T050547Z
UID:10010601-1776924000-1776938400@osradio.de
SUMMARY:Startklar\, das Morgenmagazin. Mit Verena Morris.
DESCRIPTION:Ganz schön aufgeweckt. Gut informiert und bestens unterhalten in den Vormittag. Live aus Studio 1.
URL:https://osradio.de/sendung/startklar-das-morgenmagazin-5/
LOCATION:Niedersachsen
CATEGORIES:Redaktion
ATTACH;FMTTYPE=image/jpeg:https://osradio.de/wp-content/uploads/2026/03/Verena_Kalenderansicht.jpg
ORGANIZER;CN="os|radio Redaktion":MAILTO:redaktion@osradio.de
END:VEVENT
BEGIN:VEVENT
DTSTART;TZID=Europe/Berlin:20260423T100000
DTEND;TZID=Europe/Berlin:20260423T140000
DTSTAMP:20260423T114626
CREATED:20260420T044725Z
LAST-MODIFIED:20260421T103928Z
UID:10007747-1776938400-1776952800@osradio.de
SUMMARY:Durch den Tag. Mit Laura Niermann.
DESCRIPTION:Lokale Reportagen\, Interviews und Gäste – live aus Studio 1.
URL:https://osradio.de/sendung/vielfalt-am-vormittag-osradio-redaktion-2-7/
LOCATION:Niedersachsen
CATEGORIES:Redaktion
ATTACH;FMTTYPE=image/jpeg:https://osradio.de/wp-content/uploads/2026/03/Laura_Kalender-scaled.jpg
ORGANIZER;CN="os|radio Redaktion":MAILTO:redaktion@osradio.de
END:VEVENT
BEGIN:VEVENT
DTSTART;TZID=Europe/Berlin:20260423T140000
DTEND;TZID=Europe/Berlin:20260423T180000
DTSTAMP:20260423T114626
CREATED:20260418T120959Z
LAST-MODIFIED:20260420T044102Z
UID:10013630-1776952800-1776967200@osradio.de
SUMMARY:Der Nachmittag in Stadt und Land. Mit Matthias Preiss.
DESCRIPTION:Lokalnachrichten\, Radiobeiträge und Musik bis zum Feierabend. Live aus Studio 1.
URL:https://osradio.de/sendung/der-nachmittag-in-stadt-und-land-osradio-redaktion-2-4/2026-04-23/
LOCATION:Niedersachsen
CATEGORIES:Redaktion
ATTACH;FMTTYPE=image/jpeg:https://osradio.de/wp-content/uploads/2026/04/Matthias_Kalender-1-scaled.jpg
ORGANIZER;CN="os|radio Redaktion":MAILTO:redaktion@osradio.de
END:VEVENT
BEGIN:VEVENT
DTSTART;TZID=Europe/Berlin:20260423T180000
DTEND;TZID=Europe/Berlin:20260423T190000
DTSTAMP:20260423T114626
CREATED:20260423T091156Z
LAST-MODIFIED:20260423T091308Z
UID:10005138-1776967200-1776970800@osradio.de
SUMMARY:Kommunikation und Kultur - heute: Andrea Hoffmann\, "Toastmaster" und Ilja Grzeskowitz\, Autor - Clemens-Maria Pohlmann
DESCRIPTION:Clemens-Maria Pohlmann
URL:https://osradio.de/sendung/naturschutz-informationen-alles-rund-um-natur-und-umweltschutz-hubert-witte-2/
LOCATION:Niedersachsen
CATEGORIES:Bürgerfunk
END:VEVENT
BEGIN:VEVENT
DTSTART;TZID=Europe/Berlin:20260423T190000
DTEND;TZID=Europe/Berlin:20260423T200000
DTSTAMP:20260423T114626
CREATED:20260423T072901Z
LAST-MODIFIED:20260423T072901Z
UID:10003285-1776970800-1776974400@osradio.de
SUMMARY:Der VfL-Podcast der Osnabrücker Rundschau - heute: „Glück und Badjie gehören dazu." - Kalla Wefel
DESCRIPTION:Lars Mosel\, Jascha Alteruthemeyer und Kalla Wefel palavern über den knappen und recht glücklichen Sieg gegen den FC Ingolstadt\, werfen einen Blick auf die rosige Zukunft und die kommende Partie gegen den SC Verl und erklären\, warum die Rundschau wegen Nichteinhaltens der gesetzlich vorgeschriebenen Gleichbehandlung der Presse seitens eines Verantwortlichen – der sich bereits ausgiebig dafür entschuldigt hat – erst in den kommenden Tagen über den Stand der Neugestaltung der Bremer Brücke berichten wird. \nKalla Wefel
URL:https://osradio.de/sendung/der-vfl-podcast-der-osnabruecker-rundschau-kalla-wefel-5/
LOCATION:Niedersachsen
CATEGORIES:Bürgerfunk
END:VEVENT
BEGIN:VEVENT
DTSTART;TZID=Europe/Berlin:20260423T200000
DTEND;TZID=Europe/Berlin:20260423T220000
DTSTAMP:20260423T114626
CREATED:20260328T193354Z
LAST-MODIFIED:20260328T193354Z
UID:10005838-1776974400-1776981600@osradio.de
SUMMARY:What’s Metal: Neuvorstellungen & Interviews lokaler\, nationaler und internationaler Künstler\, Tourdaten\, News & Klassiker von Hardrock bis zur extremsten Musik. - Karsten Eickhoff und Ralf Niehenke
DESCRIPTION:What’s Metal: Neuvorstellungen & Interviews lokaler\, nationaler und internationaler Künstler\, Tourdaten\, News & Klassiker von Hardrock bis zur extremsten Musik. – Moderation: Karsten Eickhoff und Ralf Niehenke
URL:https://osradio.de/sendung/whats-metal-neuvorstellungen-interviews-lokaler-nationaler-und-internationaler-kuenstler-tourdaten-news-klassiker-von-hardrock-bis-zur-extremsten-musik-karsten-eickhoff-und-ralf-ni/2026-04-23/
LOCATION:Niedersachsen
CATEGORIES:Bürgerfunk
END:VEVENT
BEGIN:VEVENT
DTSTART;TZID=Europe/Berlin:20260423T220000
DTEND;TZID=Europe/Berlin:20260423T220000
DTSTAMP:20260423T114626
CREATED:20260417T045839Z
LAST-MODIFIED:20260417T045840Z
UID:10012530-1776981600-1776981600@osradio.de
SUMMARY:Music Nonstop - Nachrichten zur vollen Stunde
DESCRIPTION:
URL:https://osradio.de/sendung/music-nonstop-nachrichten-zur-vollen-stunde-5/2026-04-23/
LOCATION:Niedersachsen
CATEGORIES:Redaktion
END:VEVENT
END:VCALENDAR