BEGIN:VCALENDAR
VERSION:2.0
PRODID:-//os|radio 104,8 - ECPv6.15.20//NONSGML v1.0//EN
CALSCALE:GREGORIAN
METHOD:PUBLISH
X-WR-CALNAME:os|radio 104,8
X-ORIGINAL-URL:https://osradio.de
X-WR-CALDESC:Veranstaltungen für os|radio 104,8
REFRESH-INTERVAL;VALUE=DURATION:PT1H
X-Robots-Tag:noindex
X-PUBLISHED-TTL:PT1H
BEGIN:VTIMEZONE
TZID:Europe/Berlin
BEGIN:DAYLIGHT
TZOFFSETFROM:+0100
TZOFFSETTO:+0200
TZNAME:CEST
DTSTART:20250330T010000
END:DAYLIGHT
BEGIN:STANDARD
TZOFFSETFROM:+0200
TZOFFSETTO:+0100
TZNAME:CET
DTSTART:20251026T010000
END:STANDARD
BEGIN:DAYLIGHT
TZOFFSETFROM:+0100
TZOFFSETTO:+0200
TZNAME:CEST
DTSTART:20260329T010000
END:DAYLIGHT
BEGIN:STANDARD
TZOFFSETFROM:+0200
TZOFFSETTO:+0100
TZNAME:CET
DTSTART:20261025T010000
END:STANDARD
BEGIN:DAYLIGHT
TZOFFSETFROM:+0100
TZOFFSETTO:+0200
TZNAME:CEST
DTSTART:20270328T010000
END:DAYLIGHT
BEGIN:STANDARD
TZOFFSETFROM:+0200
TZOFFSETTO:+0100
TZNAME:CET
DTSTART:20271031T010000
END:STANDARD
END:VTIMEZONE
BEGIN:VEVENT
DTSTART;TZID=Europe/Berlin:20260421T060000
DTEND;TZID=Europe/Berlin:20260421T100000
DTSTAMP:20260423T100906
CREATED:20260418T120831Z
LAST-MODIFIED:20260420T043819Z
UID:10013626-1776751200-1776765600@osradio.de
SUMMARY:Startklar\, das Morgenmagazin. Mit Marcus Oberholthaus.
DESCRIPTION:Ganz schön aufgeweckt. Gut informiert und bestens unterhalten in den Vormittag. Live aus Studio 1.
URL:https://osradio.de/sendung/startklar-das-morgenmagazin-4/2026-04-21/
CATEGORIES:Redaktion
ATTACH;FMTTYPE=image/jpeg:https://osradio.de/wp-content/uploads/2026/03/Markus_Kalender-1-scaled.jpg
ORGANIZER;CN="os|radio Redaktion":MAILTO:redaktion@osradio.de
END:VEVENT
BEGIN:VEVENT
DTSTART;TZID=Europe/Berlin:20260421T100000
DTEND;TZID=Europe/Berlin:20260421T140000
DTSTAMP:20260423T100906
CREATED:20260420T044524Z
LAST-MODIFIED:20260420T050426Z
UID:10007745-1776765600-1776780000@osradio.de
SUMMARY:Durch den Tag. Mit Laura Niermann.
DESCRIPTION:Lokale Reportagen\, Interviews und Gäste – live aus Studio 1.
URL:https://osradio.de/sendung/vielfalt-am-vormittag-osradio-redaktion-2-5/
CATEGORIES:Redaktion
ATTACH;FMTTYPE=image/jpeg:https://osradio.de/wp-content/uploads/2026/03/Laura_Kalender-scaled.jpg
ORGANIZER;CN="os|radio Redaktion":MAILTO:redaktion@osradio.de
END:VEVENT
BEGIN:VEVENT
DTSTART;TZID=Europe/Berlin:20260421T140000
DTEND;TZID=Europe/Berlin:20260421T180000
DTSTAMP:20260423T100906
CREATED:20260418T120959Z
LAST-MODIFIED:20260420T044102Z
UID:10013628-1776780000-1776794400@osradio.de
SUMMARY:Der Nachmittag in Stadt und Land. Mit Matthias Preiss.
DESCRIPTION:Lokalnachrichten\, Radiobeiträge und Musik bis zum Feierabend. Live aus Studio 1.
URL:https://osradio.de/sendung/der-nachmittag-in-stadt-und-land-osradio-redaktion-2-4/2026-04-21/
CATEGORIES:Redaktion
ATTACH;FMTTYPE=image/jpeg:https://osradio.de/wp-content/uploads/2026/04/Matthias_Kalender-1-scaled.jpg
ORGANIZER;CN="os|radio Redaktion":MAILTO:redaktion@osradio.de
END:VEVENT
BEGIN:VEVENT
DTSTART;TZID=Europe/Berlin:20260421T180000
DTEND;TZID=Europe/Berlin:20260421T190000
DTSTAMP:20260423T100906
CREATED:20260328T101142Z
LAST-MODIFIED:20260419T084711Z
UID:10005245-1776794400-1776798000@osradio.de
SUMMARY:querbeet: Alles aus Regionales\, Kunst und Kultur. - Heide Jenzen und Siggi Obergrefenkemper
DESCRIPTION:
URL:https://osradio.de/sendung/querbeet-alles-aus-regionales-kunst-und-kultur-heide-jenzen-und-siggi-obergrefenkemper/2026-04-21/
LOCATION:os|radio 104\,8 – Studio 2\, Lohstraße 45a\, Osnabrück\, Niedersachsen\, 49074\, Germany
CATEGORIES:Bürgerfunk
END:VEVENT
BEGIN:VEVENT
DTSTART;TZID=Europe/Berlin:20260421T190000
DTEND;TZID=Europe/Berlin:20260421T200000
DTSTAMP:20260423T100906
CREATED:20260326T175939Z
LAST-MODIFIED:20260420T050305Z
UID:10003650-1776798000-1776801600@osradio.de
SUMMARY:Easy Listening Jazz: Jazz-Musik\, die nebenbei laufen kann. - Klaus Dietrich Pott und Gerd Maibauer
DESCRIPTION:
URL:https://osradio.de/sendung/easy-listening-jazz-klaus-dietrich-pott-gerd-maibauer/2026-04-21/
CATEGORIES:Bürgerfunk
END:VEVENT
BEGIN:VEVENT
DTSTART;TZID=Europe/Berlin:20260421T200000
DTEND;TZID=Europe/Berlin:20260421T210000
DTSTAMP:20260423T100906
CREATED:20260421T071902Z
LAST-MODIFIED:20260421T071902Z
UID:10005397-1776801600-1776805200@osradio.de
SUMMARY:Schinkel-Stimmen\, der Stadtteilpodcast - heute: Udo vom Rikscha-Team-Osnabrück (Wh.) - Moderation: Tom Herter
DESCRIPTION:Tom Herter
URL:https://osradio.de/sendung/schinkel-stimmen-der-stadtteilpodcast-moderation-tom-herter-2/
CATEGORIES:Bürgerfunk
END:VEVENT
BEGIN:VEVENT
DTSTART;TZID=Europe/Berlin:20260421T210000
DTEND;TZID=Europe/Berlin:20260421T220000
DTSTAMP:20260423T100906
CREATED:20260421T124814Z
LAST-MODIFIED:20260421T124814Z
UID:10005273-1776805200-1776808800@osradio.de
SUMMARY:Radio Marabu: Präsentation alternativer Musikformen - heute: Marcel Fischer am Mikrofon - Ulrich Heyden am Telefon
DESCRIPTION:Reiner Palma
URL:https://osradio.de/sendung/radio-marabu-praesentation-alternativer-musikformen-reiner-palma-2/
CATEGORIES:Bürgerfunk
END:VEVENT
BEGIN:VEVENT
DTSTART;TZID=Europe/Berlin:20260421T220000
DTEND;TZID=Europe/Berlin:20260421T220000
DTSTAMP:20260423T100906
CREATED:20260417T045839Z
LAST-MODIFIED:20260417T045840Z
UID:10012528-1776808800-1776808800@osradio.de
SUMMARY:Music Nonstop - Nachrichten zur vollen Stunde
DESCRIPTION:
URL:https://osradio.de/sendung/music-nonstop-nachrichten-zur-vollen-stunde-5/2026-04-21/
CATEGORIES:Redaktion
END:VEVENT
END:VCALENDAR