BEGIN:VCALENDAR
VERSION:2.0
PRODID:-//os|radio 104,8 - ECPv6.15.20//NONSGML v1.0//EN
CALSCALE:GREGORIAN
METHOD:PUBLISH
X-WR-CALNAME:os|radio 104,8
X-ORIGINAL-URL:https://osradio.de
X-WR-CALDESC:Veranstaltungen für os|radio 104,8
REFRESH-INTERVAL;VALUE=DURATION:PT1H
X-Robots-Tag:noindex
X-PUBLISHED-TTL:PT1H
BEGIN:VTIMEZONE
TZID:Europe/Berlin
BEGIN:DAYLIGHT
TZOFFSETFROM:+0100
TZOFFSETTO:+0200
TZNAME:CEST
DTSTART:20250330T010000
END:DAYLIGHT
BEGIN:STANDARD
TZOFFSETFROM:+0200
TZOFFSETTO:+0100
TZNAME:CET
DTSTART:20251026T010000
END:STANDARD
BEGIN:DAYLIGHT
TZOFFSETFROM:+0100
TZOFFSETTO:+0200
TZNAME:CEST
DTSTART:20260329T010000
END:DAYLIGHT
BEGIN:STANDARD
TZOFFSETFROM:+0200
TZOFFSETTO:+0100
TZNAME:CET
DTSTART:20261025T010000
END:STANDARD
BEGIN:DAYLIGHT
TZOFFSETFROM:+0100
TZOFFSETTO:+0200
TZNAME:CEST
DTSTART:20270328T010000
END:DAYLIGHT
BEGIN:STANDARD
TZOFFSETFROM:+0200
TZOFFSETTO:+0100
TZNAME:CET
DTSTART:20271031T010000
END:STANDARD
END:VTIMEZONE
BEGIN:VEVENT
DTSTART;TZID=Europe/Berlin:20260503T160000
DTEND;TZID=Europe/Berlin:20260503T170000
DTSTAMP:20260421T211400
CREATED:20260421T100634Z
LAST-MODIFIED:20260421T100818Z
UID:10013633-1777824000-1777827600@osradio.de
SUMMARY:Tauschers Plattenkiste: Besondere Lieder zu einem bestimmten Thema  - Alexander Tauscher
DESCRIPTION:
URL:https://osradio.de/sendung/tauschers-plattenkiste-besondere-lieder-zu-einem-bestimmten-thema-alexander-tauscher-2/
CATEGORIES:Bürgerfunk
END:VEVENT
BEGIN:VEVENT
DTSTART;TZID=Europe/Berlin:20260517T160000
DTEND;TZID=Europe/Berlin:20260517T170000
DTSTAMP:20260421T211400
CREATED:20260328T185710Z
LAST-MODIFIED:20260421T100431Z
UID:10013634-1779033600-1779037200@osradio.de
SUMMARY:Tauschers Plattenkiste: Besondere Lieder zu einem bestimmten Thema - Alexander Tauscher
DESCRIPTION:
URL:https://osradio.de/sendung/tauschers-plattenkiste-besondere-lieder-zu-einem-bestimmten-thema-alexander-tauscher/2026-05-17/
CATEGORIES:Bürgerfunk
END:VEVENT
BEGIN:VEVENT
DTSTART;TZID=Europe/Berlin:20260531T160000
DTEND;TZID=Europe/Berlin:20260531T170000
DTSTAMP:20260421T211400
CREATED:20260328T185710Z
LAST-MODIFIED:20260421T100431Z
UID:10013635-1780243200-1780246800@osradio.de
SUMMARY:Tauschers Plattenkiste: Besondere Lieder zu einem bestimmten Thema - Alexander Tauscher
DESCRIPTION:
URL:https://osradio.de/sendung/tauschers-plattenkiste-besondere-lieder-zu-einem-bestimmten-thema-alexander-tauscher/2026-05-31/
CATEGORIES:Bürgerfunk
END:VEVENT
BEGIN:VEVENT
DTSTART;TZID=Europe/Berlin:20260614T160000
DTEND;TZID=Europe/Berlin:20260614T170000
DTSTAMP:20260421T211400
CREATED:20260328T185710Z
LAST-MODIFIED:20260421T100431Z
UID:10013636-1781452800-1781456400@osradio.de
SUMMARY:Tauschers Plattenkiste: Besondere Lieder zu einem bestimmten Thema - Alexander Tauscher
DESCRIPTION:
URL:https://osradio.de/sendung/tauschers-plattenkiste-besondere-lieder-zu-einem-bestimmten-thema-alexander-tauscher/2026-06-14/
CATEGORIES:Bürgerfunk
END:VEVENT
BEGIN:VEVENT
DTSTART;TZID=Europe/Berlin:20260628T160000
DTEND;TZID=Europe/Berlin:20260628T170000
DTSTAMP:20260421T211400
CREATED:20260328T185710Z
LAST-MODIFIED:20260421T100431Z
UID:10013637-1782662400-1782666000@osradio.de
SUMMARY:Tauschers Plattenkiste: Besondere Lieder zu einem bestimmten Thema - Alexander Tauscher
DESCRIPTION:
URL:https://osradio.de/sendung/tauschers-plattenkiste-besondere-lieder-zu-einem-bestimmten-thema-alexander-tauscher/2026-06-28/
CATEGORIES:Bürgerfunk
END:VEVENT
BEGIN:VEVENT
DTSTART;TZID=Europe/Berlin:20260712T160000
DTEND;TZID=Europe/Berlin:20260712T170000
DTSTAMP:20260421T211400
CREATED:20260328T185710Z
LAST-MODIFIED:20260421T100431Z
UID:10013638-1783872000-1783875600@osradio.de
SUMMARY:Tauschers Plattenkiste: Besondere Lieder zu einem bestimmten Thema - Alexander Tauscher
DESCRIPTION:
URL:https://osradio.de/sendung/tauschers-plattenkiste-besondere-lieder-zu-einem-bestimmten-thema-alexander-tauscher/2026-07-12/
CATEGORIES:Bürgerfunk
END:VEVENT
BEGIN:VEVENT
DTSTART;TZID=Europe/Berlin:20260726T160000
DTEND;TZID=Europe/Berlin:20260726T170000
DTSTAMP:20260421T211400
CREATED:20260328T185710Z
LAST-MODIFIED:20260421T100431Z
UID:10013639-1785081600-1785085200@osradio.de
SUMMARY:Tauschers Plattenkiste: Besondere Lieder zu einem bestimmten Thema - Alexander Tauscher
DESCRIPTION:
URL:https://osradio.de/sendung/tauschers-plattenkiste-besondere-lieder-zu-einem-bestimmten-thema-alexander-tauscher/2026-07-26/
CATEGORIES:Bürgerfunk
END:VEVENT
BEGIN:VEVENT
DTSTART;TZID=Europe/Berlin:20260809T160000
DTEND;TZID=Europe/Berlin:20260809T170000
DTSTAMP:20260421T211400
CREATED:20260328T185710Z
LAST-MODIFIED:20260421T100431Z
UID:10013640-1786291200-1786294800@osradio.de
SUMMARY:Tauschers Plattenkiste: Besondere Lieder zu einem bestimmten Thema - Alexander Tauscher
DESCRIPTION:
URL:https://osradio.de/sendung/tauschers-plattenkiste-besondere-lieder-zu-einem-bestimmten-thema-alexander-tauscher/2026-08-09/
CATEGORIES:Bürgerfunk
END:VEVENT
BEGIN:VEVENT
DTSTART;TZID=Europe/Berlin:20260823T160000
DTEND;TZID=Europe/Berlin:20260823T170000
DTSTAMP:20260421T211400
CREATED:20260328T185710Z
LAST-MODIFIED:20260421T100431Z
UID:10013641-1787500800-1787504400@osradio.de
SUMMARY:Tauschers Plattenkiste: Besondere Lieder zu einem bestimmten Thema - Alexander Tauscher
DESCRIPTION:
URL:https://osradio.de/sendung/tauschers-plattenkiste-besondere-lieder-zu-einem-bestimmten-thema-alexander-tauscher/2026-08-23/
CATEGORIES:Bürgerfunk
END:VEVENT
BEGIN:VEVENT
DTSTART;TZID=Europe/Berlin:20260906T160000
DTEND;TZID=Europe/Berlin:20260906T170000
DTSTAMP:20260421T211400
CREATED:20260328T185710Z
LAST-MODIFIED:20260421T100431Z
UID:10013642-1788710400-1788714000@osradio.de
SUMMARY:Tauschers Plattenkiste: Besondere Lieder zu einem bestimmten Thema - Alexander Tauscher
DESCRIPTION:
URL:https://osradio.de/sendung/tauschers-plattenkiste-besondere-lieder-zu-einem-bestimmten-thema-alexander-tauscher/2026-09-06/
CATEGORIES:Bürgerfunk
END:VEVENT
BEGIN:VEVENT
DTSTART;TZID=Europe/Berlin:20260920T160000
DTEND;TZID=Europe/Berlin:20260920T170000
DTSTAMP:20260421T211400
CREATED:20260328T185710Z
LAST-MODIFIED:20260421T100431Z
UID:10013643-1789920000-1789923600@osradio.de
SUMMARY:Tauschers Plattenkiste: Besondere Lieder zu einem bestimmten Thema - Alexander Tauscher
DESCRIPTION:
URL:https://osradio.de/sendung/tauschers-plattenkiste-besondere-lieder-zu-einem-bestimmten-thema-alexander-tauscher/2026-09-20/
CATEGORIES:Bürgerfunk
END:VEVENT
BEGIN:VEVENT
DTSTART;TZID=Europe/Berlin:20261004T160000
DTEND;TZID=Europe/Berlin:20261004T170000
DTSTAMP:20260421T211400
CREATED:20260328T185710Z
LAST-MODIFIED:20260421T100431Z
UID:10013644-1791129600-1791133200@osradio.de
SUMMARY:Tauschers Plattenkiste: Besondere Lieder zu einem bestimmten Thema - Alexander Tauscher
DESCRIPTION:
URL:https://osradio.de/sendung/tauschers-plattenkiste-besondere-lieder-zu-einem-bestimmten-thema-alexander-tauscher/2026-10-04/
CATEGORIES:Bürgerfunk
END:VEVENT
BEGIN:VEVENT
DTSTART;TZID=Europe/Berlin:20261018T160000
DTEND;TZID=Europe/Berlin:20261018T170000
DTSTAMP:20260421T211400
CREATED:20260328T185710Z
LAST-MODIFIED:20260421T100431Z
UID:10013645-1792339200-1792342800@osradio.de
SUMMARY:Tauschers Plattenkiste: Besondere Lieder zu einem bestimmten Thema - Alexander Tauscher
DESCRIPTION:
URL:https://osradio.de/sendung/tauschers-plattenkiste-besondere-lieder-zu-einem-bestimmten-thema-alexander-tauscher/2026-10-18/
CATEGORIES:Bürgerfunk
END:VEVENT
BEGIN:VEVENT
DTSTART;TZID=Europe/Berlin:20261101T160000
DTEND;TZID=Europe/Berlin:20261101T170000
DTSTAMP:20260421T211400
CREATED:20260328T185710Z
LAST-MODIFIED:20260421T100431Z
UID:10013646-1793548800-1793552400@osradio.de
SUMMARY:Tauschers Plattenkiste: Besondere Lieder zu einem bestimmten Thema - Alexander Tauscher
DESCRIPTION:
URL:https://osradio.de/sendung/tauschers-plattenkiste-besondere-lieder-zu-einem-bestimmten-thema-alexander-tauscher/2026-11-01/
CATEGORIES:Bürgerfunk
END:VEVENT
BEGIN:VEVENT
DTSTART;TZID=Europe/Berlin:20261115T160000
DTEND;TZID=Europe/Berlin:20261115T170000
DTSTAMP:20260421T211400
CREATED:20260328T185710Z
LAST-MODIFIED:20260421T100431Z
UID:10013647-1794758400-1794762000@osradio.de
SUMMARY:Tauschers Plattenkiste: Besondere Lieder zu einem bestimmten Thema - Alexander Tauscher
DESCRIPTION:
URL:https://osradio.de/sendung/tauschers-plattenkiste-besondere-lieder-zu-einem-bestimmten-thema-alexander-tauscher/2026-11-15/
CATEGORIES:Bürgerfunk
END:VEVENT
BEGIN:VEVENT
DTSTART;TZID=Europe/Berlin:20261129T160000
DTEND;TZID=Europe/Berlin:20261129T170000
DTSTAMP:20260421T211400
CREATED:20260328T185710Z
LAST-MODIFIED:20260421T100431Z
UID:10013648-1795968000-1795971600@osradio.de
SUMMARY:Tauschers Plattenkiste: Besondere Lieder zu einem bestimmten Thema - Alexander Tauscher
DESCRIPTION:
URL:https://osradio.de/sendung/tauschers-plattenkiste-besondere-lieder-zu-einem-bestimmten-thema-alexander-tauscher/2026-11-29/
CATEGORIES:Bürgerfunk
END:VEVENT
BEGIN:VEVENT
DTSTART;TZID=Europe/Berlin:20261213T160000
DTEND;TZID=Europe/Berlin:20261213T170000
DTSTAMP:20260421T211400
CREATED:20260328T185710Z
LAST-MODIFIED:20260421T100431Z
UID:10013649-1797177600-1797181200@osradio.de
SUMMARY:Tauschers Plattenkiste: Besondere Lieder zu einem bestimmten Thema - Alexander Tauscher
DESCRIPTION:
URL:https://osradio.de/sendung/tauschers-plattenkiste-besondere-lieder-zu-einem-bestimmten-thema-alexander-tauscher/2026-12-13/
CATEGORIES:Bürgerfunk
END:VEVENT
BEGIN:VEVENT
DTSTART;TZID=Europe/Berlin:20261227T160000
DTEND;TZID=Europe/Berlin:20261227T170000
DTSTAMP:20260421T211400
CREATED:20260328T185710Z
LAST-MODIFIED:20260421T100431Z
UID:10013650-1798387200-1798390800@osradio.de
SUMMARY:Tauschers Plattenkiste: Besondere Lieder zu einem bestimmten Thema - Alexander Tauscher
DESCRIPTION:
URL:https://osradio.de/sendung/tauschers-plattenkiste-besondere-lieder-zu-einem-bestimmten-thema-alexander-tauscher/2026-12-27/
CATEGORIES:Bürgerfunk
END:VEVENT
END:VCALENDAR